BEGIN:VCALENDAR
VERSION:2.0
PRODID:-//Bill Hart - ECPv5.7.1//NONSGML v1.0//EN
CALSCALE:GREGORIAN
METHOD:PUBLISH
X-WR-CALNAME:Bill Hart
X-ORIGINAL-URL:https://billhartbizgrowth.com
X-WR-CALDESC:Events for Bill Hart
BEGIN:VTIMEZONE
TZID:UTC
BEGIN:STANDARD
TZOFFSETFROM:+0000
TZOFFSETTO:+0000
TZNAME:UTC
DTSTART:20150101T000000
END:STANDARD
END:VTIMEZONE
BEGIN:VEVENT
DTSTART;TZID=UTC:20150506T083000
DTEND;TZID=UTC:20150506T100000
DTSTAMP:20260422T134725
CREATED:20150323T213442Z
LAST-MODIFIED:20150325T172240Z
UID:605-1430901000-1430906400@billhartbizgrowth.com
SUMMARY:Know How Your Client Thinks
DESCRIPTION:Your brain has 4 areas it process unique information ranging from critical thinking\, planning\, feelling to being creative. Each person has a unique preference in how they think. This thinking preference determines how they view life\, interact with others\, process information\, make decisions and it determines their buying style. Your thinking preferences determine how you prefer to sell. The challenge then is aligning with your customr’s preferred thinking which affects everything in the sales process from prospecting\, discussions to negotiating and closing. \nLearn to utilize the Whole Brain Thinking methodology to improve your sales process and shorten your sales cycles.  To learn more go to Herrmann Solutions www.hbdi.com \nRegister http://www.eventbrite.com/e/know-how-your-client-thinks-tickets-16288209473
URL:https://billhartbizgrowth.com/event/know-how-your-client-thinks/
LOCATION:Serendipity Labs\, One S. Wacker\, Chicago\, IL\, 60606\, United States
END:VEVENT
END:VCALENDAR