BEGIN:VCALENDAR
VERSION:2.0
PRODID:-//Bill Hart - ECPv5.7.1//NONSGML v1.0//EN
CALSCALE:GREGORIAN
METHOD:PUBLISH
X-WR-CALNAME:Bill Hart
X-ORIGINAL-URL:https://billhartbizgrowth.com
X-WR-CALDESC:Events for Bill Hart
BEGIN:VTIMEZONE
TZID:UTC
BEGIN:STANDARD
TZOFFSETFROM:+0000
TZOFFSETTO:+0000
TZNAME:UTC
DTSTART:20150101T000000
END:STANDARD
END:VTIMEZONE
BEGIN:VEVENT
DTSTART;TZID=UTC:20150505T153000
DTEND;TZID=UTC:20150505T183000
DTSTAMP:20260422T153250
CREATED:20150321T203701Z
LAST-MODIFIED:20150331T225946Z
UID:598-1430839800-1430850600@billhartbizgrowth.com
SUMMARY:Executive Briefing/Networking - Using Whole Brain Thinking to Improve Results
DESCRIPTION:Executive Briefing and networking cocktail on using whole brain thinking to improve decision making\, meetings\, communication and sales results. Chicago\, IL May 5 4:00-6:30 – limited to 15 people and includes a free Herrmann Brain Dominance Index report ($500 value). \nTo Register  \nhttp://www.eventbrite.com/myevent?eid=16263323037
URL:https://billhartbizgrowth.com/event/executive-briefingnetworking-using-whole-brain-thinking-to-improve-results/
LOCATION:Serendipity Labs\, One S. Wacker\, Chicago\, IL\, 60606\, United States
END:VEVENT
END:VCALENDAR